BEGIN:VCALENDAR
VERSION:2.0
PRODID:-//wp-events-plugin.com//7.2.3.1//EN
TZID:America/Chicago
X-WR-TIMEZONE:America/Chicago
BEGIN:VEVENT
UID:15@robertsirrigation.com
DTSTART;TZID=America/Chicago:20250815T083000
DTEND;TZID=America/Chicago:20250815T150000
DTSTAMP:20250801T155418Z
URL:https://robertsirrigation.com/events/summer-field-day-trade-show/
SUMMARY:Summer Field Day &amp\; Trade Show
DESCRIPTION:SUMMER MEETING\, FIELD DAY &amp\; TRADE SHOW Friday - August 15
 \, 2025 TRADE SHOW 8:30 AM TO 3:00 PM\n\n
ATTACH;FMTTYPE=image/jpeg:https://robertsirrigation.com/wp-content/uploads
 /Screenshot-2025-08-01-103728.jpg
LOCATION:Hableman Bros. Company\, 1493 Aqua Rd\, Black River Falls\, WI\, 5
 4615\, United States
GEO:44.147697;-90.687035
X-APPLE-STRUCTURED-LOCATION;VALUE=URI;X-ADDRESS=1493 Aqua Rd\, Black River 
 Falls\, WI\, 54615\, United States;X-APPLE-RADIUS=100;X-TITLE=Hableman Bro
 s. Company:geo:44.147697,-90.687035
END:VEVENT
BEGIN:VTIMEZONE
TZID:America/Chicago
X-LIC-LOCATION:America/Chicago
BEGIN:DAYLIGHT
DTSTART:20250309T030000
TZOFFSETFROM:-0600
TZOFFSETTO:-0500
TZNAME:CDT
END:DAYLIGHT
END:VTIMEZONE
END:VCALENDAR